BEGIN:VCALENDAR
VERSION:2.0
PRODID:-//Wentworth Falls FC - ECPv6.15.20//NONSGML v1.0//EN
CALSCALE:GREGORIAN
METHOD:PUBLISH
X-WR-CALNAME:Wentworth Falls FC
X-ORIGINAL-URL:https://wentworthfallsfc.com.au
X-WR-CALDESC:Events for Wentworth Falls FC
REFRESH-INTERVAL;VALUE=DURATION:PT1H
X-Robots-Tag:noindex
X-PUBLISHED-TTL:PT1H
BEGIN:VTIMEZONE
TZID:Australia/Sydney
BEGIN:STANDARD
TZOFFSETFROM:+1100
TZOFFSETTO:+1000
TZNAME:AEST
DTSTART:20220402T160000
END:STANDARD
BEGIN:DAYLIGHT
TZOFFSETFROM:+1000
TZOFFSETTO:+1100
TZNAME:AEDT
DTSTART:20221001T160000
END:DAYLIGHT
BEGIN:STANDARD
TZOFFSETFROM:+1100
TZOFFSETTO:+1000
TZNAME:AEST
DTSTART:20230401T160000
END:STANDARD
BEGIN:DAYLIGHT
TZOFFSETFROM:+1000
TZOFFSETTO:+1100
TZNAME:AEDT
DTSTART:20230930T160000
END:DAYLIGHT
BEGIN:STANDARD
TZOFFSETFROM:+1100
TZOFFSETTO:+1000
TZNAME:AEST
DTSTART:20240406T160000
END:STANDARD
BEGIN:DAYLIGHT
TZOFFSETFROM:+1000
TZOFFSETTO:+1100
TZNAME:AEDT
DTSTART:20241005T160000
END:DAYLIGHT
BEGIN:STANDARD
TZOFFSETFROM:+1100
TZOFFSETTO:+1000
TZNAME:AEST
DTSTART:20250405T160000
END:STANDARD
BEGIN:DAYLIGHT
TZOFFSETFROM:+1000
TZOFFSETTO:+1100
TZNAME:AEDT
DTSTART:20251004T160000
END:DAYLIGHT
BEGIN:STANDARD
TZOFFSETFROM:+1100
TZOFFSETTO:+1000
TZNAME:AEST
DTSTART:20260404T160000
END:STANDARD
BEGIN:DAYLIGHT
TZOFFSETFROM:+1000
TZOFFSETTO:+1100
TZNAME:AEDT
DTSTART:20261003T160000
END:DAYLIGHT
END:VTIMEZONE
BEGIN:VEVENT
DTSTART;VALUE=DATE:20250223
DTEND;VALUE=DATE:20250224
DTSTAMP:20260426T012434
CREATED:20250123T235341Z
LAST-MODIFIED:20250123T235341Z
UID:3439-1740268800-1740355199@wentworthfallsfc.com.au
SUMMARY:PRE SEASON SOCIAL GAME DAY
DESCRIPTION:All WFFC teams will have a game scheduled on this day for our pre-season social.  \nAll teams must have minimum numbers plus a registered coach and manager by this day – it is our final chance to test teams before we enter them to Nepean Competition on 1 March.  \nAfter this date moving players between teams will not be possible.
URL:https://wentworthfallsfc.com.au/event/pre-season-social-game-day/
END:VEVENT
BEGIN:VEVENT
DTSTART;VALUE=DATE:20250210
DTEND;VALUE=DATE:20250213
DTSTAMP:20260426T012434
CREATED:20250123T234943Z
LAST-MODIFIED:20250123T234943Z
UID:3437-1739145600-1739404799@wentworthfallsfc.com.au
SUMMARY:GRADING - U13 and above
DESCRIPTION:Any players playing in age groups u13 and above where there are enough players for 2 teams will need to attend at least one grading session.\n\nGrading dates are scheduled for 10\, 11 and 12 February and will run after school hours. Please mark these dates in your calendar\, more detail will follow soon.\n\nGrading will be done as per our Grading policy and is designed to be fun\, objective and aimed at providing optimal enjoyment of the upcoming season for all players and volunteer coaches.
URL:https://wentworthfallsfc.com.au/event/grading-u13-and-above/
END:VEVENT
BEGIN:VEVENT
DTSTART;TZID=Australia/Sydney:20250205T180000
DTEND;TZID=Australia/Sydney:20250205T193000
DTSTAMP:20260426T012434
CREATED:20250123T234542Z
LAST-MODIFIED:20250123T234542Z
UID:3435-1738778400-1738783800@wentworthfallsfc.com.au
SUMMARY:HIGH SCHOOL STUDENTS PRE-SEASON (BOYS AND GIRLS)
DESCRIPTION:Open to all 2025 high school students 7-10\, some fun pre-season games and casual training sessions will be hosted by WFFC.\n\nCome and try players welcome\, suitable for all experience levels\n\nWednesday: 5th of February\nWhere: Pitt Park\, Wentworth Falls\n600pm-730pm\nCost: Free
URL:https://wentworthfallsfc.com.au/event/high-school-students-pre-season-boys-and-girls/
LOCATION:Pitt Park\, Matcham Ave\, Wentworth Falls\, NSW\, 2782
ORGANIZER;CN="Wentworth Falls FC":MAILTO:enquiries@wentworthfallsfc.com.au
END:VEVENT
BEGIN:VEVENT
DTSTART;VALUE=DATE:20230325
DTEND;VALUE=DATE:20230327
DTSTAMP:20260426T012434
CREATED:20230130T121906Z
LAST-MODIFIED:20230130T121906Z
UID:2496-1679702400-1679875199@wentworthfallsfc.com.au
SUMMARY:Winter 2023 Kick-off Weekend
DESCRIPTION:!st round of the season (subject to change)
URL:https://wentworthfallsfc.com.au/event/winter-2023-kick-off-weekend/
LOCATION:Wentworth Falls FC – Clubhouse\, Pitt Park\, Matcham Ave\, Wentworth Falls\, NSW\, 2782\, Australia
ORGANIZER;CN="Wentworth Falls FC":MAILTO:enquiries@wentworthfallsfc.com.au
END:VEVENT
BEGIN:VEVENT
DTSTART;TZID=Australia/Sydney:20230320T190000
DTEND;TZID=Australia/Sydney:20230320T203000
DTSTAMP:20260426T012434
CREATED:20230306T123214Z
LAST-MODIFIED:20230306T123214Z
UID:2612-1679338800-1679344200@wentworthfallsfc.com.au
SUMMARY:Coaches and Managers Meeting
DESCRIPTION:There will be a Coaches and Managers Meeting at the Pitt Park Clubhouse on Mon 20 March 7:00-8:30pm.\n\nWe will be taking you through info on team sheets that will be important for the start of the season\, and answering any other questions you have.\n\nIt would be great if all coaches and managers could make it.\n\nPlease let our Coaching Coordinator\, Andrew Gelao ccc@wentworthfallsfc.com.au know if you can’t make it.
URL:https://wentworthfallsfc.com.au/event/coaches-and-managers-meeting/
LOCATION:Wentworth Falls FC – Clubhouse\, Pitt Park\, Matcham Ave\, Wentworth Falls\, NSW\, 2782\, Australia
ORGANIZER;CN="Wentworth Falls FC":MAILTO:enquiries@wentworthfallsfc.com.au
END:VEVENT
BEGIN:VEVENT
DTSTART;VALUE=DATE:20230302
DTEND;VALUE=DATE:20230303
DTSTAMP:20260426T012434
CREATED:20230130T121807Z
LAST-MODIFIED:20230130T121807Z
UID:2494-1677715200-1677801599@wentworthfallsfc.com.au
SUMMARY:Registrations Re-open
DESCRIPTION:Player registrations can resume being accepted as team nominations have been finalised.
URL:https://wentworthfallsfc.com.au/event/registrations-re-open/
LOCATION:Wentworth Falls FC – Clubhouse\, Pitt Park\, Matcham Ave\, Wentworth Falls\, NSW\, 2782\, Australia
ORGANIZER;CN="Wentworth Falls FC":MAILTO:enquiries@wentworthfallsfc.com.au
END:VEVENT
BEGIN:VEVENT
DTSTART;TZID=Australia/Sydney:20230216T173000
DTEND;TZID=Australia/Sydney:20230216T190000
DTSTAMP:20260426T012434
CREATED:20230130T120225Z
LAST-MODIFIED:20230130T120225Z
UID:2479-1676568600-1676574000@wentworthfallsfc.com.au
SUMMARY:2023 Free Football Sessions | U11-U16 Girls
DESCRIPTION:Come down and kick around at Pitt Park! \nWFFC is running free pre-season sessions for all experience levels. These session will involve fun and easy football training plus plenty of game time to get you ready to play in 2023. Perfect for new players wanting a sample of our club or meeting up with your mates to play some friendly organised football. \n\n\n\nDate\nTime\n\n\nThursday 16th February\n1730-1900\n\n\nWednesday 1st March\n1730-1900\n\n\n\n  \nAny Players that wish to attend these free clinics should fill in this form online –  www.bit.ly/WFFC-clinics .  Please spread the word\, players do not have to be registered to attend\, but places are limited.
URL:https://wentworthfallsfc.com.au/event/2023-free-football-sessions-u11-u16-girls/
LOCATION:Wentworth Falls FC – Clubhouse\, Pitt Park\, Matcham Ave\, Wentworth Falls\, NSW\, 2782\, Australia
ORGANIZER;CN="Wentworth Falls FC":MAILTO:enquiries@wentworthfallsfc.com.au
END:VEVENT
BEGIN:VEVENT
DTSTART;VALUE=DATE:20230301
DTEND;VALUE=DATE:20230302
DTSTAMP:20260426T012434
CREATED:20230130T121701Z
LAST-MODIFIED:20230130T121701Z
UID:2492-1677628800-1677715199@wentworthfallsfc.com.au
SUMMARY:Team Nominations Due
DESCRIPTION:Team nominations to be submitted to NFA
URL:https://wentworthfallsfc.com.au/event/team-nominations-due/
LOCATION:Wentworth Falls FC – Clubhouse\, Pitt Park\, Matcham Ave\, Wentworth Falls\, NSW\, 2782\, Australia
ORGANIZER;CN="Wentworth Falls FC":MAILTO:enquiries@wentworthfallsfc.com.au
END:VEVENT
BEGIN:VEVENT
DTSTART;VALUE=DATE:20230226
DTEND;VALUE=DATE:20230227
DTSTAMP:20260426T012434
CREATED:20230130T121624Z
LAST-MODIFIED:20230130T121624Z
UID:2490-1677369600-1677455999@wentworthfallsfc.com.au
SUMMARY:Registration Cut-off | Initial Nominations
DESCRIPTION:Registrations will be temporariliary paused to enable team nominations to be lodged with NFA \nRegistrations will reopen 02 March after teams have been nominated
URL:https://wentworthfallsfc.com.au/event/registration-cut-off-initial-nominations/
LOCATION:Wentworth Falls FC – Clubhouse\, Pitt Park\, Matcham Ave\, Wentworth Falls\, NSW\, 2782\, Australia
ORGANIZER;CN="Wentworth Falls FC":MAILTO:enquiries@wentworthfallsfc.com.au
END:VEVENT
BEGIN:VEVENT
DTSTART;VALUE=DATE:20230219
DTEND;VALUE=DATE:20230220
DTSTAMP:20260426T012434
CREATED:20230130T121402Z
LAST-MODIFIED:20230130T121402Z
UID:2488-1676764800-1676851199@wentworthfallsfc.com.au
SUMMARY:Pitt Park Club Game Day
DESCRIPTION:Trial matches to be arranged with other Clubs for pre-season friendlies and to test grading of teams. \nPlayer uniforms will be distributed at these games. \nYour Team Manager will advise of kick-off times.
URL:https://wentworthfallsfc.com.au/event/pitt-park-club-game-day/
LOCATION:Pitt Park\, Matcham Ave\, Wentworth Falls\, NSW\, 2782
ORGANIZER;CN="Wentworth Falls FC":MAILTO:enquiries@wentworthfallsfc.com.au
END:VEVENT
BEGIN:VEVENT
DTSTART;TZID=Australia/Sydney:20230216T173000
DTEND;TZID=Australia/Sydney:20230216T190000
DTSTAMP:20260426T012434
CREATED:20230130T120225Z
LAST-MODIFIED:20230130T120225Z
UID:2479-1676568600-1676574000@wentworthfallsfc.com.au
SUMMARY:2023 Free Football Sessions | U11-U16 Girls
DESCRIPTION:Come down and kick around at Pitt Park! \nWFFC is running free pre-season sessions for all experience levels. These session will involve fun and easy football training plus plenty of game time to get you ready to play in 2023. Perfect for new players wanting a sample of our club or meeting up with your mates to play some friendly organised football. \n\n\n\nDate\nTime\n\n\nThursday 16th February\n1730-1900\n\n\nWednesday 1st March\n1730-1900\n\n\n\n  \nAny Players that wish to attend these free clinics should fill in this form online –  www.bit.ly/WFFC-clinics .  Please spread the word\, players do not have to be registered to attend\, but places are limited.
URL:https://wentworthfallsfc.com.au/event/2023-free-football-sessions-u11-u16-girls/
LOCATION:Wentworth Falls FC – Clubhouse\, Pitt Park\, Matcham Ave\, Wentworth Falls\, NSW\, 2782\, Australia
ORGANIZER;CN="Wentworth Falls FC":MAILTO:enquiries@wentworthfallsfc.com.au
END:VEVENT
BEGIN:VEVENT
DTSTART;VALUE=DATE:20230215
DTEND;VALUE=DATE:20230217
DTSTAMP:20260426T012434
CREATED:20230130T121036Z
LAST-MODIFIED:20230130T121036Z
UID:2484-1676419200-1676591999@wentworthfallsfc.com.au
SUMMARY:Team Trials and Grading | U12-All Age
DESCRIPTION:Trial matches will be held 15-16 February for the purpose of grading teams for the upcoming season. \nTimes TBC. \nYour Team Manager will be provided details closer to the date. \n  \n 
URL:https://wentworthfallsfc.com.au/event/team-trials-and-grading-u12-all-age/
LOCATION:Wentworth Falls FC – Clubhouse\, Pitt Park\, Matcham Ave\, Wentworth Falls\, NSW\, 2782\, Australia
ORGANIZER;CN="Wentworth Falls FC":MAILTO:enquiries@wentworthfallsfc.com.au
END:VEVENT
BEGIN:VEVENT
DTSTART;TZID=Australia/Sydney:20230205T113000
DTEND;TZID=Australia/Sydney:20230205T123000
DTSTAMP:20260426T012434
CREATED:20230130T115408Z
LAST-MODIFIED:20230130T115408Z
UID:2469-1675596600-1675600200@wentworthfallsfc.com.au
SUMMARY:2023 Free Football Sessions | U17-All Age Women
DESCRIPTION:Come down and kick around at Pitt Park! \nWFFC is running free pre-season sessions for all experience levels. These session will involve fun and easy football training plus plenty of game time to get you ready to play in 2023. Perfect for new players wanting a sample of our club or meeting up with your mates to play some friendly organised football. \nU17-All Age Women – Come and Try sessions \n\n\n\nDate\nTime\n\n\nSunday 5th February\n1130-1230\n\n\nWednesday 8th February\n1730-1900\n\n\nMonday 13th February\n1730-1900\n\n\n\n  \nAny Players that wish to attend these free clinics should fill in this form online –  www.bit.ly/WFFC-clinics .  Please spread the word\, players do not have to be registered to attend\, but places are limited.
URL:https://wentworthfallsfc.com.au/event/2023-free-football-sessions-u17-all-age-women/
LOCATION:Pitt Park\, Matcham Ave\, Wentworth Falls\, NSW\, 2782
ORGANIZER;CN="Wentworth Falls FC":MAILTO:enquiries@wentworthfallsfc.com.au
END:VEVENT
BEGIN:VEVENT
DTSTART;TZID=Australia/Sydney:20230212T160000
DTEND;TZID=Australia/Sydney:20230212T180000
DTSTAMP:20260426T012434
CREATED:20230130T121204Z
LAST-MODIFIED:20230130T121204Z
UID:2486-1676217600-1676224800@wentworthfallsfc.com.au
SUMMARY:Coaches Meeting and Kitbag Distribution
DESCRIPTION:All coaches/managers to attend pre-season meeting.
URL:https://wentworthfallsfc.com.au/event/coaches-meeting-and-kitbag-distribution/
LOCATION:Wentworth Falls FC – Clubhouse\, Pitt Park\, Matcham Ave\, Wentworth Falls\, NSW\, 2782\, Australia
ORGANIZER;CN="Wentworth Falls FC":MAILTO:enquiries@wentworthfallsfc.com.au
END:VEVENT
BEGIN:VEVENT
DTSTART;TZID=Australia/Sydney:20230208T170000
DTEND;TZID=Australia/Sydney:20230208T183000
DTSTAMP:20260426T012434
CREATED:20230130T115852Z
LAST-MODIFIED:20230130T115852Z
UID:2475-1675875600-1675881000@wentworthfallsfc.com.au
SUMMARY:2023 Free Football Sessions | U13-U17 Boys
DESCRIPTION:Come down and kick around at Pitt Park! \nWFFC is running free pre-season sessions for all experience levels. These session will involve fun and easy football training plus plenty of game time to get you ready to play in 2023. Perfect for new players wanting a sample of our club or meeting up with your mates to play some friendly organised football. \n\n\n\nDate\nTime\n\n\nWednesday 8th February\n1700-1830\n\n\nThursday 9th February\n1700-1830\n\n\n\n  \nAny Players that wish to attend these free clinics should fill in this form online –  www.bit.ly/WFFC-clinics .  Please spread the word\, players do not have to be registered to attend\, but places are limited.
URL:https://wentworthfallsfc.com.au/event/2023-free-football-sessions-u13-u17-boys/
LOCATION:Wentworth Falls FC – Clubhouse\, Pitt Park\, Matcham Ave\, Wentworth Falls\, NSW\, 2782\, Australia
ORGANIZER;CN="Wentworth Falls FC":MAILTO:enquiries@wentworthfallsfc.com.au
END:VEVENT
BEGIN:VEVENT
DTSTART;TZID=Australia/Sydney:20230205T113000
DTEND;TZID=Australia/Sydney:20230205T123000
DTSTAMP:20260426T012434
CREATED:20230130T115408Z
LAST-MODIFIED:20230130T115408Z
UID:2469-1675596600-1675600200@wentworthfallsfc.com.au
SUMMARY:2023 Free Football Sessions | U17-All Age Women
DESCRIPTION:Come down and kick around at Pitt Park! \nWFFC is running free pre-season sessions for all experience levels. These session will involve fun and easy football training plus plenty of game time to get you ready to play in 2023. Perfect for new players wanting a sample of our club or meeting up with your mates to play some friendly organised football. \nU17-All Age Women – Come and Try sessions \n\n\n\nDate\nTime\n\n\nSunday 5th February\n1130-1230\n\n\nWednesday 8th February\n1730-1900\n\n\nMonday 13th February\n1730-1900\n\n\n\n  \nAny Players that wish to attend these free clinics should fill in this form online –  www.bit.ly/WFFC-clinics .  Please spread the word\, players do not have to be registered to attend\, but places are limited.
URL:https://wentworthfallsfc.com.au/event/2023-free-football-sessions-u17-all-age-women/
LOCATION:Pitt Park\, Matcham Ave\, Wentworth Falls\, NSW\, 2782
ORGANIZER;CN="Wentworth Falls FC":MAILTO:enquiries@wentworthfallsfc.com.au
END:VEVENT
BEGIN:VEVENT
DTSTART;TZID=Australia/Sydney:20230208T170000
DTEND;TZID=Australia/Sydney:20230208T183000
DTSTAMP:20260426T012434
CREATED:20230130T115852Z
LAST-MODIFIED:20230130T115852Z
UID:2475-1675875600-1675881000@wentworthfallsfc.com.au
SUMMARY:2023 Free Football Sessions | U13-U17 Boys
DESCRIPTION:Come down and kick around at Pitt Park! \nWFFC is running free pre-season sessions for all experience levels. These session will involve fun and easy football training plus plenty of game time to get you ready to play in 2023. Perfect for new players wanting a sample of our club or meeting up with your mates to play some friendly organised football. \n\n\n\nDate\nTime\n\n\nWednesday 8th February\n1700-1830\n\n\nThursday 9th February\n1700-1830\n\n\n\n  \nAny Players that wish to attend these free clinics should fill in this form online –  www.bit.ly/WFFC-clinics .  Please spread the word\, players do not have to be registered to attend\, but places are limited.
URL:https://wentworthfallsfc.com.au/event/2023-free-football-sessions-u13-u17-boys/
LOCATION:Wentworth Falls FC – Clubhouse\, Pitt Park\, Matcham Ave\, Wentworth Falls\, NSW\, 2782\, Australia
ORGANIZER;CN="Wentworth Falls FC":MAILTO:enquiries@wentworthfallsfc.com.au
END:VEVENT
BEGIN:VEVENT
DTSTART;VALUE=DATE:20230206
DTEND;VALUE=DATE:20230207
DTSTAMP:20260426T012434
CREATED:20230130T120736Z
LAST-MODIFIED:20230130T120736Z
UID:2482-1675641600-1675727999@wentworthfallsfc.com.au
SUMMARY:Earlybird Discount Ends
DESCRIPTION:Please register to play before Monday 6th February 2023 to receive your Early Bird discount of $20 \nTo register please visit https://registration.dribl.com/ \n 
URL:https://wentworthfallsfc.com.au/event/earlybird-discount-ends/
LOCATION:Wentworth Falls FC – Clubhouse\, Pitt Park\, Matcham Ave\, Wentworth Falls\, NSW\, 2782\, Australia
ORGANIZER;CN="Wentworth Falls FC":MAILTO:enquiries@wentworthfallsfc.com.au
END:VEVENT
BEGIN:VEVENT
DTSTART;TZID=Australia/Sydney:20230205T113000
DTEND;TZID=Australia/Sydney:20230205T123000
DTSTAMP:20260426T012434
CREATED:20230130T115408Z
LAST-MODIFIED:20230130T115408Z
UID:2469-1675596600-1675600200@wentworthfallsfc.com.au
SUMMARY:2023 Free Football Sessions | U17-All Age Women
DESCRIPTION:Come down and kick around at Pitt Park! \nWFFC is running free pre-season sessions for all experience levels. These session will involve fun and easy football training plus plenty of game time to get you ready to play in 2023. Perfect for new players wanting a sample of our club or meeting up with your mates to play some friendly organised football. \nU17-All Age Women – Come and Try sessions \n\n\n\nDate\nTime\n\n\nSunday 5th February\n1130-1230\n\n\nWednesday 8th February\n1730-1900\n\n\nMonday 13th February\n1730-1900\n\n\n\n  \nAny Players that wish to attend these free clinics should fill in this form online –  www.bit.ly/WFFC-clinics .  Please spread the word\, players do not have to be registered to attend\, but places are limited.
URL:https://wentworthfallsfc.com.au/event/2023-free-football-sessions-u17-all-age-women/
LOCATION:Pitt Park\, Matcham Ave\, Wentworth Falls\, NSW\, 2782
ORGANIZER;CN="Wentworth Falls FC":MAILTO:enquiries@wentworthfallsfc.com.au
END:VEVENT
END:VCALENDAR